BEGIN:VCALENDAR
VERSION:2.0
PRODID:-//SightCity//ClickUp Export//DE
BEGIN:VEVENT
UID:F032001@sightcity.net
DTSTAMP:20260309T123500Z
DTSTART:20260528T080000Z
DTEND:20260528T084500Z
SUMMARY:Patientensymposium: Glaukom
DESCRIPTION:Krankheitsbild Glaukom, Symptome, Untersuchungen und Diagnostik, Therapien\n\nVA-Code: F032001\nZoom-ID: 848 4500 2711\nZoom-Code: 446238\nZoom-Link: https://us06web.zoom.us/j/84845002711?pwd=1jUNDKpyWjqd5NqUMle6UrEbraanby.1\nZoom-Einwahl: +496971049922,,84845002711#,,,,*446238#
LOCATION:
END:VEVENT
END:VCALENDAR
