BEGIN:VCALENDAR
VERSION:2.0
PRODID:-//SightCity//ClickUp//DE
BEGIN:VEVENT
UID:7006063541748305547@sightcity.net
SUMMARY:Barrieren überwinden. Erfahrungsbericht einer Orientierungs- und Mobilitätsschulung mit einem taubblinden Jugendlichen im Blindeninstitut Würzburg
DTSTART:20260528T111500Z
DTEND:20260528T114500Z
LOCATION:Forum
DESCRIPTION:Ich arbeite seit 2 Jahren mit einem taubblinden Jugendlichen und schule ihn in Orientierung und Mobilität. Er ist 15 Jahre alt und seit 10 Jahren in unserer Einrichtung.\n\nEr hat in den letzten Jahren sich unfassbar weiterentwickelt, verfügt über einen sehr großen Gebärdenwortschatz, liest und schreibt Punktschrift, lormt und beherrscht das Fingeralphabet.\nDas Interessante an ihm ist, dass er sich permanent in Bezug zu seiner Umwelt setzt, ein unfassbares Orientierungsvermögen hat und sich erschlossene Umweltmuster extrem gut einprägt.\nDabei verwendet er teilweise ganz eigene Techniken und Methoden.\n\nIch würde gerne seine Biographie schildern, wie er sich weiterentwickelt hat und einzelne Sequenzen aus meiner Arbeit mit ihm, anhand von Videos zeigen.\n\nIch denke für Menschen die im Taubblinden Bereich arbeiten und auch für andere Rehafachkräfte ist mein Fallbeispiel enorm interessant.\n\n---\nVA-Code: F032006\nZoom-ID: 848 4500 2711\nZoom-Code: 446238\nZoom-Link: https://us06web.zoom.us/j/84845002711?pwd=1jUNDKpyWjqd5NqUMle6UrEbraanby.1\nZoom-Einwahl: +496971049922,,84845002711#,,,,*446238#
END:VEVENT
END:VCALENDAR
