BEGIN:VCALENDAR
VERSION:2.0
PRODID:-//SightCity//DE
BEGIN:VEVENT
UID:S031005@sightcity.net
DTSTAMP:20260312T102742Z
DTSTART:20260527T134500Z
DTEND:20260527T141500Z
SUMMARY:Wenn sich das Sehen verändert – warum Aufgeben keine Option ist
LOCATION:Sport&Musik
DESCRIPTION:Anja Renner lebt mit dem Usher-Syndrom, sie sieht nur noch etwa zehn Prozent. Heute gehört sie zur Weltspitze im Paratriathlon und gewann bei den Paralympischen Spielen Paris 2024 die Bronzemedaille.\nDer Vortrag verbindet persönliche Erfahrungen mit der Realität einer progredienten Augenerkrankung: Wie verändert sich der Alltag? Wie geht man mit Unsicherheit um? Und warum ist es wichtig, nicht passiv zu werden? Anja berichtet darüber, wie sie ihren Weg nach der Diagnose neu definiert hat – im Sport ebenso wie im Umgang mit ihrem Sehen.\nEin Vortrag über Haltung, Verantwortung und die Entscheidung, sich selbst nicht aufzugeben, auch wenn sich die eigenen Möglichkeiten verändern.\n\nVA-Code: S031005
END:VEVENT
END:VCALENDAR
